Workbook

Sheet 工程表
A1: 実 施 工 程 表
A2: 工事名称 | C2: ○○小学校 校舎内部改修工事（例） | AE2: 工事場所 | AL2: ○○市○○町1-1 | BG2: 工期 | BL2: 46569 | BU2: ～ | BW2: 46640 | CF2: =IF(COUNT(BL2,BW2)<2,"","（"&(BW2-BL2+1)&"日間）") -> （72日間）
A3: 発注者 | C3: ○○市長 | AE3: 施工者 | AL3: 株式会社○○建設 | BG3: 現場代理人
A4: No | B4: 場所 | C4: 工事種別 | D4: 開始日 | E4: 終了日 | F4: =MONTH(F5) -> 7 | G4: =IF(DAY(G5)=1,MONTH(G5),"月") -> 月 | H4: =IF(DAY(H5)=1,MONTH(H5),IF(DAY(H5)=2,"月","")) | I4: =IF(DAY(I5)=1,MONTH(I5),IF(DAY(I5)=2,"月","")) | J4: =IF(DAY(J5)=1,MONTH(J5),IF(DAY(J5)=2,"月","")) | K4: =IF(DAY(K5)=1,MONTH(K5),IF(DAY(K5)=2,"月","")) | L4: =IF(DAY(L5)=1,MONTH(L5),IF(DAY(L5)=2,"月","")) | M4: =IF(DAY(M5)=1,MONTH(M5),IF(DAY(M5)=2,"月","")) | N4: =IF(DAY(N5)=1,MONTH(N5),IF(DAY(N5)=2,"月","")) | O4: =IF(DAY(O5)=1,MONTH(O5),IF(DAY(O5)=2,"月","")) | ... CS4: =IF(DAY(CS5)=1,MONTH(CS5),IF(DAY(CS5)=2,"月",""))
F5: =$BL$2 -> 46569 | G5: =F5+1 -> 46570 | H5: =G5+1 -> 46571 | I5: =H5+1 -> 46572 | J5: =I5+1 -> 46573 | K5: =J5+1 -> 46574 | L5: =K5+1 -> 46575 | M5: =L5+1 -> 46576 | N5: =M5+1 -> 46577 | ... CS5: =CR5+1 -> 46660
F6: =CHOOSE(WEEKDAY(F5),"日","月","火","水","木","金","土") -> 木 | G6: =CHOOSE(WEEKDAY(G5),"日","月","火","水","木","金","土") -> 金 | H6: =CHOOSE(WEEKDAY(H5),"日","月","火","水","木","金","土") -> 土 | I6: =CHOOSE(WEEKDAY(I5),"日","月","火","水","木","金","土") -> 日 | J6: =CHOOSE(WEEKDAY(J5),"日","月","火","水","木","金","土") -> 月 | K6: =CHOOSE(WEEKDAY(K5),"日","月","火","水","木","金","土") -> 火 | L6: =CHOOSE(WEEKDAY(L5),"日","月","火","水","木","金","土") -> 水 | M6: =CHOOSE(WEEKDAY(M5),"日","月","火","水","木","金","土") -> 木 | ... CS6: =CHOOSE(WEEKDAY(CS5),"日","月","火","水","木","金","土") -> 木
A7: 1 | B7: 共通 | C7: 準備・仮設（養生・搬入経路） | D7: 46569 | E7: 46577
A8: 2 | B8: 1階 教室 | C8: 解体・撤去（長期休み中に） | D8: 46580 | E8: 46598
A9: 3 | B9: 1階 教室 | C9: 内部足場の組立（生徒不在時） | D9: 46589 | E9: 46592
A10: 4 | B10: 1階 教室 | C10: 設備工事（電気・給排水） | D10: 46594 | E10: 46619
A11: 5 | B11: 1階 教室 | C11: 内装下地 | D11: 46601 | E11: 46619
A12: 6 | B12: 1階 教室 | C12: 内装仕上げ（床・壁・天井） | D12: 46616 | E12: 46630
A13: 7 | B13: 1階 教室 | C13: 内部足場の解体 | D13: 46626 | E13: 46627
A14: 8 | B14: 共通 | C14: 美装・清掃 | D14: 46631 | E14: 46633
A15: 9 | B15: 共通 | C15: 社内検査・手直し | D15: 46633 | E15: 46636
A16: 10 | B16: 共通 | C16: 竣工検査・引渡し | D16: 46637 | E16: 46640
A17: 11 | B17: 共通 | C17: 書類整理 | D17: 46636 | E17: 46640
A18: 12
A19: 13
A20: 14
A21: 15
A22: 16
A23: 17
A24: 18
A25: 行事・作業制限 | Y25: 終業式 | BP25: 始業式
A26: 対象外日 | AW26: 除 | AX26: 除 | AY26: 除 | AZ26: 除
A27: 閉所予定 | F27: =IF(OR(F$5<$C$32,F$5>$C$33,F$26="除"),"",IF(OR(WEEKDAY(F$5,2)>=6,COUNTIF(祝日!$A$2:$A$80,F$5)>0),"休","")) | G27: =IF(OR(G$5<$C$32,G$5>$C$33,G$26="除"),"",IF(OR(WEEKDAY(G$5,2)>=6,COUNTIF(祝日!$A$2:$A$80,G$5)>0),"休","")) | H27: =IF(OR(H$5<$C$32,H$5>$C$33,H$26="除"),"",IF(OR(WEEKDAY(H$5,2)>=6,COUNTIF(祝日!$A$2:$A$80,H$5)>0),"休","")) -> 休 | I27: =IF(OR(I$5<$C$32,I$5>$C$33,I$26="除"),"",IF(OR(WEEKDAY(I$5,2)>=6,COUNTIF(祝日!$A$2:$A$80,I$5)>0),"休","")) -> 休 | J27: =IF(OR(J$5<$C$32,J$5>$C$33,J$26="除"),"",IF(OR(WEEKDAY(J$5,2)>=6,COUNTIF(祝日!$A$2:$A$80,J$5)>0),"休","")) | K27: =IF(OR(K$5<$C$32,K$5>$C$33,K$26="除"),"",IF(OR(WEEKDAY(K$5,2)>=6,COUNTIF(祝日!$A$2:$A$80,K$5)>0),"休","")) | L27: =IF(OR(L$5<$C$32,L$5>$C$33,L$26="除"),"",IF(OR(WEEKDAY(L$5,2)>=6,COUNTIF(祝日!$A$2:$A$80,L$5)>0),"休","")) | M27: =IF(OR(M$5<$C$32,M$5>$C$33,M$26="除"),"",IF(OR(WEEKDAY(M$5,2)>=6,COUNTIF(祝日!$A$2:$A$80,M$5)>0),"休","")) | ... CS27: =IF(OR(CS$5<$C$32,CS$5>$C$33,CS$26="除"),"",IF(OR(WEEKDAY(CS$5,2)>=6,COUNTIF(祝日!$A$2:$A$80,CS$5)>0),"休",""))
A28: 閉所実績 | H28: 休 | I28: 休 | O28: 休 | P28: 休 | V28: 休 | W28: 休 | X28: 休 | AC28: 休 | AD28: 休 | AJ28: 休
A30: 月 | F30: =IF(EDATE(DATE(YEAR($BL$2),MONTH($BL$2),1),0)>$BW$2,"",EDATE(DATE(YEAR($BL$2),MONTH($BL$2),1),0)) -> 46569 | AJ30: =IF(EDATE(DATE(YEAR($BL$2),MONTH($BL$2),1),1)>$BW$2,"",EDATE(DATE(YEAR($BL$2),MONTH($BL$2),1),1)) -> 46600 | BN30: =IF(EDATE(DATE(YEAR($BL$2),MONTH($BL$2),1),2)>$BW$2,"",EDATE(DATE(YEAR($BL$2),MONTH($BL$2),1),2)) -> 46631
A31: 週休2日（現場閉所）の確認 | D31: 予定進捗率 | F31: 0.3 | AJ31: 0.8 | BN31: 1
A32: 対象期間 開始 | C32: =$BL$2 -> 46569 | D32: 実施進捗率 | F32: 0.3
A33: 対象期間 終了 | C33: =$BW$2 -> 46640 | D33: 差異（実施－予定） | F33: =IF(OR(F31="",F32=""),"",F32-F31) -> 0 | AJ33: =IF(OR(AJ31="",AJ32=""),"",AJ32-AJ31) | BN33: =IF(OR(BN31="",BN32=""),"",BN32-BN31)
A34: 目標閉所率 | C34: 0.285 | D34: 週休2日の対象日数 | F34: =IF(F$30="","",SUMPRODUCT(($F$5:$CS$5>=MAX(F$30,$C$32))*($F$5:$CS$5<=MIN(EOMONTH(F$30,0),$C$33))*($F$26:$CS$26<>"除"))) -> 31 | AJ34: =IF(AJ$30="","",SUMPRODUCT(($F$5:$CS$5>=MAX(AJ$30,$C$32))*($F$5:$CS$5<=MIN(EOMONTH(AJ$30,0),$C$33))*($F$26:$CS$26<>"除"))) -> 27 | BN34: =IF(BN$30="","",SUMPRODUCT(($F$5:$CS$5>=MAX(BN$30,$C$32))*($F$5:$CS$5<=MIN(EOMONTH(BN$30,0),$C$33))*($F$26:$CS$26<>"除"))) -> 10
A35: 対象期間 | C35: =SUMPRODUCT(($F$5:$CS$5>=$C$32)*($F$5:$CS$5<=$C$33)*($F$26:$CS$26<>"除")) -> 68 | D35: 予定 閉所日数（率） | F35: =IF(F$30="","",IF(N(F34)=0,"",SUMPRODUCT(($F$5:$CS$5>=MAX(F$30,$C$32))*($F$5:$CS$5<=MIN(EOMONTH(F$30,0),$C$33))*($F$26:$CS$26<>"除")*($F$27:$CS$27="休"))&"日（"&TEXT(SUMPRODUCT(($F$5:$CS$5>=MAX(F$30,$C$32))*($F$5:$CS$5<=MIN(EOMONTH(F$30,0),$C$33))*($F$26:$CS$26<>"除")*($F$27:$CS$27="休"))/F34,"0.0%")&"）")) -> 10日（32.3%） | AJ35: =IF(AJ$30="","",IF(N(AJ34)=0,"",SUMPRODUCT(($F$5:$CS$5>=MAX(AJ$30,$C$32))*($F$5:$CS$5<=MIN(EOMONTH(AJ$30,0),$C$33))*($F$26:$CS$26<>"除")*($F$27:$CS$27="休"))&"日（"&TEXT(SUMPRODUCT(($F$5:$CS$5>=MAX(AJ$30,$C$32))*($F$5:$CS$5<=MIN(EOMONTH(AJ$30,0),$C$33))*($F$26:$CS$26<>"除")*($F$27:$CS$27="休"))/AJ34,"0.0%")&"）")) -> 8日（29.6%） | BN35: =IF(BN$30="","",IF(N(BN34)=0,"",SUMPRODUCT(($F$5:$CS$5>=MAX(BN$30,$C$32))*($F$5:$CS$5<=MIN(EOMONTH(BN$30,0),$C$33))*($F$26:$CS$26<>"除")*($F$27:$CS$27="休"))&"日（"&TEXT(SUMPRODUCT(($F$5:$CS$5>=MAX(BN$30,$C$32))*($F$5:$CS$5<=MIN(EOMONTH(BN$30,0),$C$33))*($F$26:$CS$26<>"除")*($F$27:$CS$27="休"))/BN34,"0.0%")&"）")) -> 2日（20.0%）
A36: 閉所予定 合計 | C36: =COUNTIF($F$27:$CS$27,"休")&"日（"&TEXT(IF(C35=0,0,COUNTIF($F$27:$CS$27,"休")/C35),"0.0%")&"）" -> 20日（29.4%） | D36: 実施 閉所日数（率） | F36: =IF(F$30="","",IF(N(F34)=0,"",IF(SUMPRODUCT(($F$5:$CS$5>=MAX(F$30,$C$32))*($F$5:$CS$5<=MIN(EOMONTH(F$30,0),$C$33))*($F$26:$CS$26<>"除")*($F$28:$CS$28="休"))=0,"",SUMPRODUCT(($F$5:$CS$5>=MAX(F$30,$C$32))*($F$5:$CS$5<=MIN(EOMONTH(F$30,0),$C$33))*($F$26:$CS$26<>"除")*($F$28:$CS$28="休"))&"日（"&TEXT(SUMPRODUCT(($F$5:$CS$5>=MAX(F$30,$C$32))*($F$5:$CS$5<=MIN(EOMONTH(F$30,0),$C$33))*($F$26:$CS$26<>"除")*($F$28:$CS$28="休"))/F34,"0.0%")&"）"))) -> 10日（32.3%） | AJ36: =IF(AJ$30="","",IF(N(AJ34)=0,"",IF(SUMPRODUCT(($F$5:$CS$5>=MAX(AJ$30,$C$32))*($F$5:$CS$5<=MIN(EOMONTH(AJ$30,0),$C$33))*($F$26:$CS$26<>"除")*($F$28:$CS$28="休"))=0,"",SUMPRODUCT(($F$5:$CS$5>=MAX(AJ$30,$C$32))*($F$5:$CS$5<=MIN(EOMONTH(AJ$30,0),$C$33))*($F$26:$CS$26<>"除")*($F$28:$CS$28="休"))&"日（"&TEXT(SUMPRODUCT(($F$5:$CS$5>=MAX(AJ$30,$C$32))*($F$5:$CS$5<=MIN(EOMONTH(AJ$30,0),$C$33))*($F$26:$CS$26<>"除")*($F$28:$CS$28="休"))/AJ34,"0.0%")&"）"))) | BN36: =IF(BN$30="","",IF(N(BN34)=0,"",IF(SUMPRODUCT(($F$5:$CS$5>=MAX(BN$30,$C$32))*($F$5:$CS$5<=MIN(EOMONTH(BN$30,0),$C$33))*($F$26:$CS$26<>"除")*($F$28:$CS$28="休"))=0,"",SUMPRODUCT(($F$5:$CS$5>=MAX(BN$30,$C$32))*($F$5:$CS$5<=MIN(EOMONTH(BN$30,0),$C$33))*($F$26:$CS$26<>"除")*($F$28:$CS$28="休"))&"日（"&TEXT(SUMPRODUCT(($F$5:$CS$5>=MAX(BN$30,$C$32))*($F$5:$CS$5<=MIN(EOMONTH(BN$30,0),$C$33))*($F$26:$CS$26<>"除")*($F$28:$CS$28="休"))/BN34,"0.0%")&"）")))
A37: 判定（予定） | C37: =IF(C35=0,"",IF(COUNTIF($F$27:$CS$27,"休")/C35>=$C$34,"達成","不足")) -> 達成 | D37: 実施 閉所率（累計） | F37: =IF(F$30="","",IF(F36="","",SUMPRODUCT(($F$5:$CS$5>=$C$32)*($F$5:$CS$5<=MIN(EOMONTH(F$30,0),$C$33))*($F$26:$CS$26<>"除")*($F$28:$CS$28="休"))/SUMPRODUCT(($F$5:$CS$5>=$C$32)*($F$5:$CS$5<=MIN(EOMONTH(F$30,0),$C$33))*($F$26:$CS$26<>"除")))) -> 0.32258065 | AJ37: =IF(AJ$30="","",IF(AJ36="","",SUMPRODUCT(($F$5:$CS$5>=$C$32)*($F$5:$CS$5<=MIN(EOMONTH(AJ$30,0),$C$33))*($F$26:$CS$26<>"除")*($F$28:$CS$28="休"))/SUMPRODUCT(($F$5:$CS$5>=$C$32)*($F$5:$CS$5<=MIN(EOMONTH(AJ$30,0),$C$33))*($F$26:$CS$26<>"除")))) | BN37: =IF(BN$30="","",IF(BN36="","",SUMPRODUCT(($F$5:$CS$5>=$C$32)*($F$5:$CS$5<=MIN(EOMONTH(BN$30,0),$C$33))*($F$26:$CS$26<>"除")*($F$28:$CS$28="休"))/SUMPRODUCT(($F$5:$CS$5>=$C$32)*($F$5:$CS$5<=MIN(EOMONTH(BN$30,0),$C$33))*($F$26:$CS$26<>"除"))))
A39: ※ 開始日・終了日を入れると、その期間にバーが付きます。日曜・祝日はグレー、土曜は薄い青、今日は日付が赤になります。
A40: ※ 閉所予定は土日祝に自動で「休」が入ります。祝日に作業する日・平日に休む日は、そのマスを直接書き換えてください。
A41: ※ 週休2日の対象期間・対象外日の扱いは発注者ごとに違います。特記仕様書で確認してください。
A42: 提供：定時帰宅検討会（https://not-change-but-side.com/）

Sheet 進捗グラフ
A1: 進捗率グラフ（予定・実施）
A3: 月 | B3: 予定進捗率 | C3: 実施進捗率
A4: 着工 | B4: 0 | C4: 0
A5: =IF(工程表!F30="","",MONTH(工程表!F30)&"月末") -> 7月末 | B5: =IF(工程表!F31="",NA(),工程表!F31) -> 0.3 | C5: =IF(工程表!F32="",NA(),工程表!F32) -> 0.3
A6: =IF(工程表!AJ30="","",MONTH(工程表!AJ30)&"月末") -> 8月末 | B6: =IF(工程表!AJ31="",NA(),工程表!AJ31) -> 0.8 | C6: =IF(工程表!AJ32="",NA(),工程表!AJ32) -> #N/A
A7: =IF(工程表!BN30="","",MONTH(工程表!BN30)&"月末") -> 9月末 | B7: =IF(工程表!BN31="",NA(),工程表!BN31) -> 1 | C7: =IF(工程表!BN32="",NA(),工程表!BN32) -> #N/A
A12: ※ 工程表シートの「予定進捗率」「実施進捗率」から自動で作ります。データがない月は表示されません。

Sheet 祝日
A1: 祝日（追加・修正できます） | B1: 名称
A2: 46023 | B2: 元日 | D2: ※ 春分の日・秋分の日（2027年以降）は前年2月の官報で正式に決まります。
A3: 46034 | B3: 成人の日
A4: 46064 | B4: 建国記念の日
A5: 46076 | B5: 天皇誕生日
A6: 46101 | B6: 春分の日
A7: 46141 | B7: 昭和の日
A8: 46145 | B8: 憲法記念日
A9: 46146 | B9: みどりの日
A10: 46147 | B10: こどもの日
A11: 46148 | B11: 振替休日
A12: 46223 | B12: 海の日
A13: 46245 | B13: 山の日
A14: 46286 | B14: 敬老の日
... A52: 47080 | B52: 勤労感謝の日

Sheet 使い方
B2: 使い方
B3: 1. 工程表シートの黄色いセルに、工事名・工期・発注者などを入力します。工期の開始日から92日分（約3か月）の日付と曜日が自動で並びます。3か月を超える工事は、シートをコピーして2枚目の工期の開始日を4か月目の初日にしてください（集計は1枚ごとに出ます）。
B4: 2. 場所・工事種別・開始日・終了日を入れると、その期間にバーが付きます。
B5: 3. 「行事・作業制限」に学校行事などを書いておくと、作業できない日がひと目でわかります。
B6: 4. 「閉所予定」は土日祝に自動で「休」が入ります。変える日は直接書き換えてください。
B7: 5. 「閉所実績」に実際に閉所した日の「休」を入れると、下の表で月ごとの閉所日数・閉所率と、累計の閉所率が自動で出ます（目標を下回ると赤）。
B8: 6. 予定進捗率・実施進捗率を月ごとに入れると、差異と「進捗グラフ」シートのグラフが更新されます。
B9: 7. 印刷はA3横1枚に収まるよう設定しています。全体工程表として出すときは、実施進捗率と閉所実績を空欄にしてください。
B11: 工程を組むときのコツ（現場監督の実感）
B12: ・作業音が出る解体は、学校なら長期休みの間に確実に終わらせる。
B13: ・内部に足場を組むなら、生徒がいない長期休みか土曜日に。
B14: ・引渡し前の「美装・清掃」の日を工程に入れ忘れない。
B16: 提供：定時帰宅検討会（https://not-change-but-side.com/）
