Workbook

Sheet 入力
B1: 建設業の請求書（工事一式用）入力シート
B2: 黄色のセルだけ入力してください。白いセルは自動計算です。入力内容は「請求書」シートに自動で反映されます。
B3: ※サンプルの値が入っています。上書きして使ってください。自社情報は最初に1回入れればOKです。
B5: ① 自社情報（最初に1回）
B6: 会社名・屋号 | C6: みどり電気工事 株式会社
B7: 代表者名 | C7: 代表取締役 緑川 健
B8: 郵便番号 | C8: 123-4567
B9: 住所 | C9: 東京都〇〇区△△町1-2-3
B10: 電話番号 | C10: 03-0000-0000
B11: 登録番号（T+13桁） | C11: T1234567890123
B13: ② 振込先（最初に1回）
B14: 銀行名 | C14: 〇〇銀行
B15: 支店名 | C15: △△支店
B16: 口座種別 | C16: 普通
B17: 口座番号 | C17: 1234567
B18: 口座名義（カナ） | C18: ミドリデンキコウジ（カ
B20: ③ 請求先・請求情報（毎回）
B21: 請求先（会社名） | C21: 青空建設 株式会社
B22: 敬称 | C22: 御中
B23: 請求番号 | C23: 2026-0930-01
B24: 請求日 | C24: 46295
B25: お支払期日 | C25: 46326
B27: ④ 工事情報（毎回）
B28: 工事名 | C28: （仮称）青空ビル新築工事 電気設備工事
B29: 工事場所 | C29: 東京都〇〇区△△町4-5-6
B30: 工期（着工） | C30: 46204
B31: 工期（完了） | C31: 46285
B32: 注文書番号 | C32: AZ-2026-0158
B34: ⑤ 計算設定
B35: 消費税率 | C35: 0.1
B36: 消費税の端数処理 | C36: 切り捨て
B38: ⑥ 明細（最大10行）
B39: No. | C39: 品名・工事内容 | D39: 数量 | E39: 単位 | F39: 単価 | G39: 金額（自動）
B40: 1 | C40: 幹線設備工事 | D40: 1 | E40: 式 | F40: 680000 | G40: =IF(OR(D40="",F40=""),"",D40*F40) -> 680000
B41: 2 | C41: 電灯コンセント設備工事 | D41: 1 | E41: 式 | F41: 920000 | G41: =IF(OR(D41="",F41=""),"",D41*F41) -> 920000
B42: 3 | C42: 照明器具取付工事 | D42: 48 | E42: 台 | F42: 4500 | G42: =IF(OR(D42="",F42=""),"",D42*F42) -> 216000
B43: 4 | C43: 弱電設備工事（配管配線） | D43: 1 | E43: 式 | F43: 350000 | G43: =IF(OR(D43="",F43=""),"",D43*F43) -> 350000
B44: 5 | C44: 諸経費 | D44: 1 | E44: 式 | F44: 120000 | G44: =IF(OR(D44="",F44=""),"",D44*F44) -> 120000
B45: 6 | G45: =IF(OR(D45="",F45=""),"",D45*F45)
B46: 7 | G46: =IF(OR(D46="",F46=""),"",D46*F46)
...

Sheet 請求書
A1: 請 求 書
F3: 請求番号 | G3: =IF(入力!$C$23="","",入力!$C$23) -> 2026-0930-01
A4: =入力!$C$21&" "&入力!$C$22 -> 青空建設 株式会社 御中 | F4: 請求日 | G4: =IF(入力!$C$24="","",入力!$C$24) -> 46295
A6: 下記のとおりご請求申し上げます。 | E6: =IF(入力!$C$6="","",入力!$C$6) -> みどり電気工事 株式会社
E7: =IF(入力!$C$7="","",入力!$C$7) -> 代表取締役 緑川 健
E8: =IF(入力!$C$8="","","〒"&入力!$C$8) -> 〒123-4567
E9: =IF(入力!$C$9="","",入力!$C$9) -> 東京都〇〇区△△町1-2-3
E10: =IF(入力!$C$10="","","TEL "&入力!$C$10) -> TEL 03-0000-0000
E11: =IF(入力!$C$11="","","登録番号："&入力!$C$11) -> 登録番号：T1234567890123
A13: 工事名 | C13: =IF(入力!$C$28="","",入力!$C$28) -> （仮称）青空ビル新築工事 電気設備工事
A14: 工事場所 | C14: =IF(入力!$C$29="","",入力!$C$29) -> 東京都〇〇区△△町4-5-6
A15: 工期 | C15: =IF(入力!$C$30="","",TEXT(入力!$C$30,"yyyy年m月d日")&" ～ "&TEXT(入力!$C$31,"yyyy年m月d日")) -> 2026年7月1日 ～ 2026年9月20日
A16: 注文書番号 | C16: =IF(入力!$C$32="","",入力!$C$32) -> AZ-2026-0158
A17: お支払期日 | C17: =IF(入力!$C$25="","",入力!$C$25) -> 46326
A19: ご請求金額（税込） | D19: =H36 -> 2622400
A21: No. | B21: 品名・工事内容 | E21: 数量 | F21: 単位 | G21: 単価 | H21: 金額
A22: =IF(入力!C40="","",1) -> 1 | B22: =IF(入力!C40="","",入力!C40) -> 幹線設備工事 | E22: =IF(入力!D40="","",入力!D40) -> 1 | F22: =IF(入力!E40="","",入力!E40) -> 式 | G22: =IF(入力!F40="","",入力!F40) -> 680000 | H22: =IF(入力!G40="","",入力!G40) -> 680000
A23: =IF(入力!C41="","",2) -> 2 | B23: =IF(入力!C41="","",入力!C41) -> 電灯コンセント設備工事 | E23: =IF(入力!D41="","",入力!D41) -> 1 | F23: =IF(入力!E41="","",入力!E41) -> 式 | G23: =IF(入力!F41="","",入力!F41) -> 920000 | H23: =IF(入力!G41="","",入力!G41) -> 920000
A24: =IF(入力!C42="","",3) -> 3 | B24: =IF(入力!C42="","",入力!C42) -> 照明器具取付工事 | E24: =IF(入力!D42="","",入力!D42) -> 48 | F24: =IF(入力!E42="","",入力!E42) -> 台 | G24: =IF(入力!F42="","",入力!F42) -> 4500 | H24: =IF(入力!G42="","",入力!G42) -> 216000
A25: =IF(入力!C43="","",4) -> 4 | B25: =IF(入力!C43="","",入力!C43) -> 弱電設備工事（配管配線） | E25: =IF(入力!D43="","",入力!D43) -> 1 | F25: =IF(入力!E43="","",入力!E43) -> 式 | G25: =IF(入力!F43="","",入力!F43) -> 350000 | H25: =IF(入力!G43="","",入力!G43) -> 350000
A26: =IF(入力!C44="","",5) -> 5 | B26: =IF(入力!C44="","",入力!C44) -> 諸経費 | E26: =IF(入力!D44="","",入力!D44) -> 1 | F26: =IF(入力!E44="","",入力!E44) -> 式 | G26: =IF(入力!F44="","",入力!F44) -> 120000 | H26: =IF(入力!G44="","",入力!G44) -> 120000
A27: =IF(入力!C45="","",6) | B27: =IF(入力!C45="","",入力!C45) | E27: =IF(入力!D45="","",入力!D45) | F27: =IF(入力!E45="","",入力!E45) | G27: =IF(入力!F45="","",入力!F45) | H27: =IF(入力!G45="","",入力!G45)
A28: =IF(入力!C46="","",7) | B28: =IF(入力!C46="","",入力!C46) | E28: =IF(入力!D46="","",入力!D46) | F28: =IF(入力!E46="","",入力!E46) | G28: =IF(入力!F46="","",入力!F46) | H28: =IF(入力!G46="","",入力!G46)
A29: =IF(入力!C47="","",8) | B29: =IF(入力!C47="","",入力!C47) | E29: =IF(入力!D47="","",入力!D47) | F29: =IF(入力!E47="","",入力!E47) | G29: =IF(入力!F47="","",入力!F47) | H29: =IF(入力!G47="","",入力!G47)
A30: =IF(入力!C48="","",9) | B30: =IF(入力!C48="","",入力!C48) | E30: =IF(入力!D48="","",入力!D48) | F30: =IF(入力!E48="","",入力!E48) | G30: =IF(入力!F48="","",入力!F48) | H30: =IF(入力!G48="","",入力!G48)
A31: =IF(入力!C49="","",10) | B31: =IF(入力!C49="","",入力!C49) | E31: =IF(入力!D49="","",入力!D49) | F31: =IF(入力!E49="","",入力!E49) | G31: =IF(入力!F49="","",入力!F49) | H31: =IF(入力!G49="","",入力!G49)
A32: =IF(入力!$G$50="","","法定福利費（事業主負担分）") -> 法定福利費（事業主負担分） | H32: =IF(入力!$G$50="","",入力!$G$50) -> 98000
A34: 【税率ごとの内訳】 | F34: 小計（税抜） | H34: =SUM(H22:H32) -> 2384000
A35: ="10%対象 "&TEXT(H34,"#,##0")&"円（うち消費税 "&TEXT(H35,"#,##0")&"円）" -> 10%対象 2,384,000円（うち消費税 238,400円） | F35: 消費税（10%） | H35: =IF(入力!$C$36="切り捨て",ROUNDDOWN(H34*入力!$C$35,0),IF(入力!$C$36="四捨五入",ROUND(H34*入力!$C$35,0),ROUNDUP(H34*入力!$C$35,0))) -> 238400
A36: ="消費税の端数処理："&入力!$C$36 -> 消費税の端数処理：切り捨て | F36: 合計（税込） | H36: =H34+H35 -> 2622400
A38: お振込先
A39: =入力!$C$14&" "&入力!$C$15&" "&入力!$C$16&" "&入力!$C$17 -> 〇〇銀行 △△支店 普通 1234567
A40: ="口座名義："&入力!$C$18 -> 口座名義：ミドリデンキコウジ（カ
A41: ※振込手数料は貴社にてご負担くださいますようお願い申し上げます。
A43: 備考
A44: =IF(入力!$B$54="","",入力!$B$54) -> 工事完了に伴い、上記のとおりご請求申し上げます。
